BEGIN:VCALENDAR
VERSION:2.0
PRODID:https://github.com/derhansen/sf_event_mgt
METHOD:PUBLISH
BEGIN:VEVENT
UID:41-269@www.edubase.ch
CLASS: PUBLIC
SUMMARY:Educafé 7. September 2021, 8.30 – 9.30 Uhr
DESCRIPTION:«Warum gute Schulungen Gold wert sind»\n\nNeues Tool gleich noc
 h mehr Arbeit? Das muss nicht sein! An diesem Educafé dreht sich alles um S
 chulungen und warum sich sorgfältige Einführungen für alle Beteiligten lohn
 en.\n\nWir freuen uns riesig, das Educafé erstmals wieder bei uns vor Ort d
 urchzuführen! Unsere Educafés stehen für unkompliziertes Austauschen und Ne
 tzwerken in gemütlicher Atmosphäre – dazu laden wir Sie ein zu Kaffee und G
 ipfeli im Bistro «Mademoiselle Nobs» in Zürich. Die Plätze sind begrenzt un
 d bedingen einer Anmeldung, es gilt first come first served.\n\nSchutzkonze
 pt: Wir halten uns an die aktuell geltenden Regeln und Empfehlungen des Kan
 tons Zürich. Wir tragen Masken und empfehlen nicht geimpften Personen, vor 
 dem Event einen Schnelltest durchzuführen.\n\n\n\n\n\nWas erwartet Sie?\n\n
  	Ein 15-minütiger Impulsvortrag: Warum sich gute Schulungen für alle Betei
 ligten nachhaltig lohnen. 	Eine Blitzeinführung zum Edubase Reader: So verm
 itteln Sie Kompetenzen rund ums Lernen und Arbeiten mit E-Books. 	Eine offe
 ne Fragerunde mit Diskussion und Erfahrungsaustausch. 	Ein unkomplizierter 
 Austausch mit Fachpersonen und anderen Anwender*innen. \n\n \n\nWen spreche
 n wir an?\n\nIm Educafé sind alle interessierten Personen willkommen. Unser
 e Inhalte richten sich insbesondere an:\n\n 	Schulleitende oder Fachverantw
 ortliche, die auf der Suche nach einer E-Lösung für die Umsetzung ihrer dig
 italen Strategie sind. 	Lehrpersonen, welche E-Books im Unterricht einsetze
 n möchten oder bereits damit arbeiten. 	Medienpädag*innen, welche digitale 
 Medien anstatt oder ergänzend zu konventionellen Lehrmitteln einsetzen. 	Se
 lf Publisher welche ihre Inhalte unkompliziert als E-Book publizieren möcht
 en. \n\n\n\nInformationen zu zurückliegenden Veranstaltungen finden Sie hie
 r.
LOCATION:Haus der Kallistik
DTSTAMP:20210826T070309Z
DTSTART:20210907T063000Z
DTEND:20210907T073000Z
END:VEVENT
END:VCALENDAR
